BEGIN:VCALENDAR
VERSION:2.0
PRODID:-//Squarespace Inc/Squarespace 6//v6//EN
BEGIN:VEVENT
UID:56ce98011bbee0adb8834828@squarespace.com
DTSTAMP:20160225T055907Z
DTSTART:20160527T050000Z
DTEND:20160527T060000Z
SUMMARY:This Is Another Class Or Workshop Listing
END:VEVENT
END:VCALENDAR
