BEGIN:VCALENDAR
VERSION:2.0
PRODID:-//Squarespace Inc/Squarespace 6//v6//EN
BEGIN:VEVENT
UID:56ce97d559827e7d4cdd710d@squarespace.com
DTSTAMP:20160225T055813Z
DTSTART:20160413T050000Z
DTEND:20160413T060000Z
SUMMARY:This Is A Class Or Workshop Listing
END:VEVENT
END:VCALENDAR
