BEGIN:VCALENDAR
VERSION:2.0
PRODID:-//Squarespace Inc/Squarespace 6//v6//EN
BEGIN:VEVENT
UID:59e7ecb14c326d9fc3b5e3a4@squarespace.com
DTSTAMP:20180409T064534Z
DTSTART:20171126T010000Z
DTEND:20180422T030000Z
SUMMARY:Guided Tours of Montsalvat
END:VEVENT
END:VCALENDAR
