BEGIN:VCALENDAR
VERSION:2.0
PRODID:-//Squarespace Inc/Squarespace 6//v6//EN
BEGIN:VEVENT
UID:5b62a5a31ae6cf5b12574d2a@squarespace.com
DTSTAMP:20181021T221744Z
DTSTART:20180808T060000Z
DTEND:20181031T090000Z
SUMMARY:HallowSCREAM
END:VEVENT
END:VCALENDAR
