BEGIN:VCALENDAR
VERSION:2.0
PRODID:-//Squarespace Inc/Squarespace 6//v6//EN
BEGIN:VEVENT
UID:5bab1db8085229346f55b214@squarespace.com
DTSTAMP:20181119T060203Z
DTSTART:20180807T070000Z
DTEND:20181202T060000Z
SUMMARY:PERFORMANCE: Yours Truly Arthur Streeton
END:VEVENT
END:VCALENDAR
