BEGIN:VCALENDAR
VERSION:2.0
PRODID:-//Squarespace Inc/Squarespace 6//v6//EN
BEGIN:VEVENT
UID:5ba83840e4966bf0ebf32da2@squarespace.com
DTSTAMP:20180924T015749Z
DTSTART:20181111T033000Z
DTEND:20181111T060000Z
SUMMARY:CONCERT: Flinders Quartet\, 'IS IT TRUE? (Ist es wahr?)'
END:VEVENT
END:VCALENDAR
