BEGIN:VCALENDAR
VERSION:2.0
PRODID:-//Squarespace Inc/Squarespace 6//v6//EN
BEGIN:VEVENT
UID:5bb1694e4192022ca7c8f314@squarespace.com
DTSTAMP:20181001T003129Z
DTSTART:20181112T220000Z
DTEND:20181209T060000Z
SUMMARY:EXHIBITION: Adam Davidson - Expired Film Project #1
END:VEVENT
END:VCALENDAR
