BEGIN:VCALENDAR
VERSION:2.0
PRODID:-//Squarespace Inc/Squarespace 6//v6//EN
BEGIN:VEVENT
UID:5bece70321c67c5e47f41b35@squarespace.com
DTSTAMP:20190201T040741Z
DTSTART:20190323T230000Z
DTEND:20190430T070000Z
SUMMARY:EXHIBITION: Tracey Lamb – Point of View
END:VEVENT
END:VCALENDAR
