BEGIN:VCALENDAR
VERSION:2.0
PRODID:-//Squarespace Inc/Squarespace 6//v6//EN
BEGIN:VEVENT
UID:5bd107340852295306133035@squarespace.com
DTSTAMP:20181119T060027Z
DTSTART:20180807T070000Z
DTEND:20181125T060000Z
SUMMARY:CONCERT: Christmas with Megan &amp\; Jared
END:VEVENT
END:VCALENDAR
