BEGIN:VCALENDAR
VERSION:2.0
PRODID:-//Squarespace Inc/Squarespace 6//v6//EN
BEGIN:VEVENT
UID:5be26a764ae23722e52d12ff@squarespace.com
DTSTAMP:20181214T033848Z
DTSTART:20180806T230000Z
DTEND:20181216T100000Z
SUMMARY:Christmas Carols by Candlelight @ Montsalvat
END:VEVENT
END:VCALENDAR
