BEGIN:VCALENDAR
VERSION:2.0
PRODID:-//Squarespace Inc/Squarespace 6//v6//EN
BEGIN:VEVENT
UID:5beb7d740e2e7213b8e30df3@squarespace.com
DTSTAMP:20181119T052304Z
DTSTART:20181211T220000Z
DTEND:20190106T060000Z
SUMMARY:Exhibition: Allison Jonas Young - 360 Diagonal Parallel
END:VEVENT
END:VCALENDAR
