BEGIN:VCALENDAR
VERSION:2.0
PRODID:-//Squarespace Inc/Squarespace 6//v6//EN
BEGIN:VEVENT
UID:5bcd2cd924a694be07ce3238@squarespace.com
DTSTAMP:20181022T022309Z
DTSTART:20181212T220000Z
DTEND:20190106T060000Z
SUMMARY:EXHIBITION: Rebecca Westlund - Affinity for the Bird
END:VEVENT
END:VCALENDAR
