BEGIN:VCALENDAR
VERSION:2.0
PRODID:-//Squarespace Inc/Squarespace 6//v6//EN
BEGIN:VEVENT
UID:5c19a90a1ae6cf194fbd6fb7@squarespace.com
DTSTAMP:20190129T024407Z
DTSTART:20180819T230000Z
DTEND:20190303T060000Z
SUMMARY:EXHIBITION: B(g)ravura
END:VEVENT
END:VCALENDAR
