BEGIN:VCALENDAR
VERSION:2.0
PRODID:-//Squarespace Inc/Squarespace 6//v6//EN
BEGIN:VEVENT
UID:5a613308e4966b802ca0def1@squarespace.com
DTSTAMP:20180417T051403Z
DTSTART:20180227T220000Z
DTEND:20180520T070000Z
SUMMARY:EXHIBITION: Jole Di Florio - #dunmoochinlife
END:VEVENT
END:VCALENDAR
