BEGIN:VCALENDAR
VERSION:2.0
PRODID:-//Squarespace Inc/Squarespace 6//v6//EN
BEGIN:VEVENT
UID:5a3c35c59140b7cd572f42c1@squarespace.com
DTSTAMP:20171221T223518Z
DTSTART:20180208T220000Z
DTEND:20180507T070000Z
SUMMARY:EXHIBITION: Ellen Hanauer - Oneness
END:VEVENT
END:VCALENDAR
