BEGIN:VCALENDAR
VERSION:2.0
PRODID:-//Squarespace Inc/Squarespace 6//v6//EN
BEGIN:VEVENT
UID:5a25e6be652deaa8548fc1ed@squarespace.com
DTSTAMP:20180329T033336Z
DTSTART:20180329T033000Z
DTEND:20180412T060000Z
SUMMARY:LECTURE: Writing Memoir & Family History
END:VEVENT
END:VCALENDAR
