BEGIN:VCALENDAR
VERSION:2.0
PRODID:-//Squarespace Inc/Squarespace 6//v6//EN
BEGIN:VEVENT
UID:5a5d434e0852296a8351b64b@squarespace.com
DTSTAMP:20180116T002305Z
DTSTART:20180305T220000Z
DTEND:20180401T070000Z
SUMMARY:EXHIBITION: Jean-Paul Zilliacus - Between the Devil and the Deep Bl
 ue Sea
END:VEVENT
END:VCALENDAR
