BEGIN:VCALENDAR
VERSION:2.0
PRODID:-//Squarespace Inc/Squarespace 6//v6//EN
BEGIN:VEVENT
UID:5a65675c24a69487b665b10d@squarespace.com
DTSTAMP:20180316T055017Z
DTSTART:20180306T220000Z
DTEND:20180401T070000Z
SUMMARY:EXHIBITION: Nillumbik Artists Open Studios - Celebrating 30 Years
END:VEVENT
END:VCALENDAR
