BEGIN:VCALENDAR
VERSION:2.0
PRODID:-//Squarespace Inc/Squarespace 6//v6//EN
BEGIN:VEVENT
UID:5a714a16419202e3cc122e59@squarespace.com
DTSTAMP:20180201T053120Z
DTSTART:20180306T220000Z
DTEND:20180401T070000Z
SUMMARY:EXHIBITION: PLUSH! & Pat Jones
END:VEVENT
END:VCALENDAR
