BEGIN:VCALENDAR
VERSION:2.0
PRODID:-//Squarespace Inc/Squarespace 6//v6//EN
BEGIN:VEVENT
UID:5ab0896a2b6a28f498966a87@squarespace.com
DTSTAMP:20180320T042343Z
DTSTART:20180415T050000Z
DTEND:20180415T070000Z
SUMMARY:CONCERT: Beethoven & Ries - Music & Friendship
END:VEVENT
END:VCALENDAR
