BEGIN:VCALENDAR
VERSION:2.0
PRODID:-//Squarespace Inc/Squarespace 6//v6//EN
BEGIN:VEVENT
UID:5a66cbff652dea88224c4983@squarespace.com
DTSTAMP:20180405T233507Z
DTSTART:20180417T090000Z
DTEND:20180605T113000Z
SUMMARY:Life Drawing Sessions at Montsalvat 
END:VEVENT
END:VCALENDAR
