BEGIN:VCALENDAR
VERSION:2.0
PRODID:-//Squarespace Inc/Squarespace 6//v6//EN
BEGIN:VEVENT
UID:5ab196eeaa4a99d774618a38@squarespace.com
DTSTAMP:20180423T061346Z
DTSTART:20180428T040000Z
DTEND:20180428T070000Z
SUMMARY:BOOK LAUNCH IN PARTNERSHIP WITH READINGS: Alexis Wright in Conversa
 tion with Morag Fraser
END:VEVENT
END:VCALENDAR
