BEGIN:VCALENDAR
VERSION:2.0
PRODID:-//Squarespace Inc/Squarespace 6//v6//EN
BEGIN:VEVENT
UID:5a9c85dd53450a4f0f586815@squarespace.com
DTSTAMP:20180305T000440Z
DTSTART:20180403T230000Z
DTEND:20180429T070000Z
SUMMARY:EXHIBITION: Keira Hudson - Decay
END:VEVENT
END:VCALENDAR
