BEGIN:VCALENDAR
VERSION:2.0
PRODID:-//Squarespace Inc/Squarespace 6//v6//EN
BEGIN:VEVENT
UID:5a657d470d9297cda9b8e4b7@squarespace.com
DTSTAMP:20180219T011251Z
DTSTART:20180403T230000Z
DTEND:20180429T070000Z
SUMMARY:EXHIBITIONS: Hamish Hill - Where Have All the Hallways Gone' & Sher 
 Mannerheim - 'Seeds of Consciousness and Change'
END:VEVENT
END:VCALENDAR
