BEGIN:VCALENDAR
VERSION:2.0
PRODID:-//Squarespace Inc/Squarespace 6//v6//EN
BEGIN:VEVENT
UID:5ae6a3548a922de467b7305d@squarespace.com
DTSTAMP:20180501T064953Z
DTSTART:20180430T230000Z
DTEND:20180625T070000Z
SUMMARY:GROUNDS EXHIBITION: Emmy Mavroidis - Observing ourselves\, The nake
 d self
END:VEVENT
END:VCALENDAR
