BEGIN:VCALENDAR
VERSION:2.0
PRODID:-//Squarespace Inc/Squarespace 6//v6//EN
BEGIN:VEVENT
UID:5ab1d06d70a6ad5d2737f491@squarespace.com
DTSTAMP:20180427T004450Z
DTSTART:20180520T050000Z
DTEND:20180520T063000Z
SUMMARY:BOOK LAUNCH: Suzanne Duncan - All by Myself & Rocking It!
END:VEVENT
END:VCALENDAR
