BEGIN:VCALENDAR
VERSION:2.0
PRODID:-//Squarespace Inc/Squarespace 6//v6//EN
BEGIN:VEVENT
UID:5ad98a862b6a28d5b2cb2607@squarespace.com
DTSTAMP:20180507T052937Z
DTSTART:20180525T093000Z
DTEND:20180525T103000Z
SUMMARY:BOOK LAUNCH IN PARTNERSHIP WITH READINGS: Gail Jones in Conversatio
 n with Morag Fraser
END:VEVENT
END:VCALENDAR
