BEGIN:VCALENDAR
VERSION:2.0
PRODID:-//Squarespace Inc/Squarespace 6//v6//EN
BEGIN:VEVENT
UID:5aea934d70a6ad7a60672c8e@squarespace.com
DTSTAMP:20180613T013138Z
DTSTART:20180530T050000Z
DTEND:20180624T060000Z
SUMMARY:EXHIBITION: Emma Rose - Face It
END:VEVENT
END:VCALENDAR
