BEGIN:VCALENDAR
VERSION:2.0
PRODID:-//Squarespace Inc/Squarespace 6//v6//EN
BEGIN:VEVENT
UID:5aceda20aa4a99ae7b85d061@squarespace.com
DTSTAMP:20180412T074041Z
DTSTART:20180531T003000Z
DTEND:20180531T070000Z
SUMMARY:Australia's Biggest Morning Tea
GEO:-37.727702;145.153275
LOCATION:Montsalvat\, 7 Hillcrest Avenue\, Eltham\, VIC\, 3095\, Australia
END:VEVENT
END:VCALENDAR
