BEGIN:VCALENDAR
VERSION:2.0
PRODID:-//Squarespace Inc/Squarespace 6//v6//EN
BEGIN:VEVENT
UID:5b18c642758d4629003b0e3b@squarespace.com
DTSTAMP:20180613T005416Z
DTSTART:20180624T073000Z
DTEND:20180624T110000Z
SUMMARY:WORKSHOP: Alice Night - Voice Magic Solstice Workshop
END:VEVENT
END:VCALENDAR
