BEGIN:VCALENDAR
VERSION:2.0
PRODID:-//Squarespace Inc/Squarespace 6//v6//EN
BEGIN:VEVENT
UID:5b302cb38a922d7f9ced0e84@squarespace.com
DTSTAMP:20180730T002441Z
DTSTART:20180723T230000Z
DTEND:20180819T070000Z
SUMMARY:EXHIBITION: Jane D'Oliveyra - Juxtaposition
END:VEVENT
END:VCALENDAR
