BEGIN:VCALENDAR
VERSION:2.0
PRODID:-//Squarespace Inc/Squarespace 6//v6//EN
BEGIN:VEVENT
UID:5b1f41ec562fa7b775b554b7@squarespace.com
DTSTAMP:20190204T032207Z
DTSTART:20190329T220000Z
DTEND:20190620T060000Z
SUMMARY:GROUNDS EXHIBITION: Christabel Wigley - The Tudors 
END:VEVENT
END:VCALENDAR
