BEGIN:VCALENDAR
VERSION:2.0
PRODID:-//Squarespace Inc/Squarespace 6//v6//EN
BEGIN:VEVENT
UID:5b3444de8a922d73de460d63@squarespace.com
DTSTAMP:20180915T072647Z
DTSTART:20180624T230000Z
DTEND:20180916T070000Z
SUMMARY:MONTSALVAT ARTS FESTIVAL
END:VEVENT
END:VCALENDAR
