BEGIN:VCALENDAR
VERSION:2.0
PRODID:-//Squarespace Inc/Squarespace 6//v6//EN
BEGIN:VEVENT
UID:5b18e607562fa7c61bea5342@squarespace.com
DTSTAMP:20180627T003809Z
DTSTART:20180607T083000Z
DTEND:20180630T020000Z
SUMMARY:FUNDRAISER: Araluen Exhibition Project
END:VEVENT
END:VCALENDAR
