BEGIN:VCALENDAR
VERSION:2.0
PRODID:-//Squarespace Inc/Squarespace 6//v6//EN
BEGIN:VEVENT
UID:5b18cb45352f53e06ab9bf9a@squarespace.com
DTSTAMP:20190227T060905Z
DTSTART:20180808T090000Z
DTEND:20190226T220000Z
SUMMARY:Guided Tours of Montsalvat
END:VEVENT
END:VCALENDAR
