BEGIN:VCALENDAR
VERSION:2.0
PRODID:-//Squarespace Inc/Squarespace 6//v6//EN
BEGIN:VEVENT
UID:5b2afaa088251ba7a0445bcf@squarespace.com
DTSTAMP:20180712T070159Z
DTSTART:20180716T230000Z
DTEND:20180819T070000Z
SUMMARY:EXHIBITION: Damien Skipper - Psychedelica\; Flowers
END:VEVENT
END:VCALENDAR
