BEGIN:VCALENDAR
VERSION:2.0
PRODID:-//Squarespace Inc/Squarespace 6//v6//EN
BEGIN:VEVENT
UID:5b1f3e5faa4a996d8350685e@squarespace.com
DTSTAMP:20180617T231924Z
DTSTART:20180625T230000Z
DTEND:20180722T070000Z
SUMMARY:EXHIBITION: Janice McBride - A Reflective World\; A Retrospective o
 f Works
END:VEVENT
END:VCALENDAR
