BEGIN:VCALENDAR
VERSION:2.0
PRODID:-//Squarespace Inc/Squarespace 6//v6//EN
BEGIN:VEVENT
UID:5ad98daf0e2e72dfb8aae0fa@squarespace.com
DTSTAMP:20180604T234722Z
DTSTART:20180530T230000Z
DTEND:20180722T070000Z
SUMMARY:EXHIBITION: The Nillumbik Prize 2018
END:VEVENT
END:VCALENDAR
