BEGIN:VCALENDAR
VERSION:2.0
PRODID:-//Squarespace Inc/Squarespace 6//v6//EN
BEGIN:VEVENT
UID:5b7b99988a922d103f80e3f6@squarespace.com
DTSTAMP:20181003T033634Z
DTSTART:20180917T233000Z
DTEND:20181021T073000Z
SUMMARY:CONCERT: Dual Aura - Traveller's Tales
END:VEVENT
END:VCALENDAR
