BEGIN:VCALENDAR
VERSION:2.0
PRODID:-//Squarespace Inc/Squarespace 6//v6//EN
BEGIN:VEVENT
UID:5b4c060a0e2e72d65fba25aa@squarespace.com
DTSTAMP:20180807T022739Z
DTSTART:20180820T230000Z
DTEND:20180916T070000Z
SUMMARY:EXHIBITION: Eleanor James & Claire Mercer - The Weft of the World 
END:VEVENT
END:VCALENDAR
