BEGIN:VCALENDAR
VERSION:2.0
PRODID:-//Squarespace Inc/Squarespace 6//v6//EN
BEGIN:VEVENT
UID:5b7b9d6c21c67c90e00fdf2d@squarespace.com
DTSTAMP:20181128T040232Z
DTSTART:20181115T220000Z
DTEND:20190106T060000Z
SUMMARY:EXHIBITION: Jo Lane - Drawing Strength
END:VEVENT
END:VCALENDAR
