BEGIN:VCALENDAR
VERSION:2.0
PRODID:-//Squarespace Inc/Squarespace 6//v6//EN
BEGIN:VEVENT
UID:5b5e5b4870a6addd33e81d71@squarespace.com
DTSTAMP:20180730T003609Z
DTSTART:20180820T230000Z
DTEND:20181014T060000Z
SUMMARY:GROUNDS EXHIBITION: Liz Walker - Listen Up
END:VEVENT
END:VCALENDAR
