BEGIN:VCALENDAR
VERSION:2.0
PRODID:-//Squarespace Inc/Squarespace 6//v6//EN
BEGIN:VEVENT
UID:5b4bdf0d2b6a280d52cb7115@squarespace.com
DTSTAMP:20180719T023358Z
DTSTART:20180820T230000Z
DTEND:20180916T070000Z
SUMMARY:EXHIBITION: Michelle Caithness / Clive Murray-White - Montsalvat 
END:VEVENT
END:VCALENDAR
