BEGIN:VCALENDAR
VERSION:2.0
PRODID:-//Squarespace Inc/Squarespace 6//v6//EN
BEGIN:VEVENT
UID:5b42fe3c1ae6cf2d2007ad8a@squarespace.com
DTSTAMP:20180814T052612Z
DTSTART:20180826T050000Z
DTEND:20180826T070000Z
SUMMARY:CONCERT: The Muses' Delight - Music for the Sun King
END:VEVENT
END:VCALENDAR
