BEGIN:VCALENDAR
VERSION:2.0
PRODID:-//Squarespace Inc/Squarespace 6//v6//EN
BEGIN:VEVENT
UID:5acb0c29562fa79982909993@squarespace.com
DTSTAMP:20180420T071257Z
DTSTART:20180508T230000Z
DTEND:20180808T070000Z
SUMMARY:EXHIBITION: Beverley Spiller - Soliloquy
END:VEVENT
END:VCALENDAR
