BEGIN:VCALENDAR
VERSION:2.0
PRODID:-//Squarespace Inc/Squarespace 6//v6//EN
BEGIN:VEVENT
UID:5b46f69e562fa757bc0ff9bc@squarespace.com
DTSTAMP:20180712T072133Z
DTSTART:20180808T230000Z
DTEND:20181107T060000Z
SUMMARY:EXHIBITION: Hayley Martin - Connect
END:VEVENT
END:VCALENDAR
