BEGIN:VCALENDAR
VERSION:2.0
PRODID:-//Squarespace Inc/Squarespace 6//v6//EN
BEGIN:VEVENT
UID:5b7e2a1c562fa7f1654c77af@squarespace.com
DTSTAMP:20180925T011658Z
DTSTART:20180917T230000Z
DTEND:20181014T060000Z
SUMMARY:EXHIBITION: Aimee Timpson - The power of the flower
END:VEVENT
END:VCALENDAR
