BEGIN:VCALENDAR
VERSION:2.0
PRODID:-//Squarespace Inc/Squarespace 6//v6//EN
BEGIN:VEVENT
UID:5b84f20e4ae23726e2dcc749@squarespace.com
DTSTAMP:20181003T033659Z
DTSTART:20180918T000000Z
DTEND:20181111T070000Z
SUMMARY:EXHIBITION: Michelle Mantsio &amp\; Brigit Heller - Solitude\, visi
 tors and the village
END:VEVENT
END:VCALENDAR
