BEGIN:VCALENDAR
VERSION:2.0
PRODID:-//Squarespace Inc/Squarespace 6//v6//EN
BEGIN:VEVENT
UID:5ba8502115fcc0772b6d4d13@squarespace.com
DTSTAMP:20180924T025700Z
DTSTART:20181108T220000Z
DTEND:20190206T060000Z
SUMMARY:EXHIBITION: Catherine Hickson\, 'The Paris Paintings'
END:VEVENT
END:VCALENDAR
