BEGIN:VCALENDAR
VERSION:2.0
PRODID:-//Squarespace Inc/Squarespace 6//v6//EN
BEGIN:VEVENT
UID:5b67ceac562fa7f5d5764ba8@squarespace.com
DTSTAMP:20180927T001631Z
DTSTART:20180808T020000Z
DTEND:20180930T070000Z
SUMMARY:CONCERT: Melbourne Composers League - Elbow Room: Mini Festival
END:VEVENT
END:VCALENDAR
